BEGIN:VCALENDAR
VERSION:2.0
PRODID:-//ChamberMaster//Event Calendar 2.0//EN
METHOD:PUBLISH
X-PUBLISHED-TTL:P3D
REFRESH-INTERVAL:P3D
CALSCALE:GREGORIAN
BEGIN:VEVENT
DTSTART:20241112T233000Z
DTEND:20241113T023000Z
X-MICROSOFT-CDO-ALLDAYEVENT:FALSE
SUMMARY:Sanger Youth Sports
DESCRIPTION:Sanger youth sports football team meetings.
X-ALT-DESC;FMTTYPE=text/html:Sanger youth sports football team meetings.
LOCATION:Chamber of Commerce 300 Bolivar St Sanger\, TX 76266
UID:e.2833.3590
SEQUENCE:3
DTSTAMP:20260420T154802Z
URL:https://business.sangertexas.com/events/details/sanger-youth-sports-11-12-2024-3590
END:VEVENT

END:VCALENDAR
