BEGIN:VCALENDAR
VERSION:2.0
PRODID:-//ChamberMaster//Event Calendar 2.0//EN
METHOD:PUBLISH
X-PUBLISHED-TTL:P3D
REFRESH-INTERVAL:P3D
CALSCALE:GREGORIAN
BEGIN:VEVENT
DTSTART:20260507T160000Z
DTEND:20260507T170000Z
X-MICROSOFT-CDO-ALLDAYEVENT:FALSE
SUMMARY:Sanger Senior Center Ribbon Cutting
DESCRIPTION:Celebrate the grand opening of Sanger Senior Center with a formal ribbon-cutting ceremony hosted by the Sanger Chamber of Commerce.
X-ALT-DESC;FMTTYPE=text/html:Celebrate the grand opening of Sanger Senior Center with a formal ribbon-cutting ceremony hosted by the Sanger Chamber of Commerce.
LOCATION:Sanger TX Senior Center 125 Bolivar St Sanger\, TX 76266
UID:e.2833.4775
SEQUENCE:3
DTSTAMP:20260423T172343Z
URL:https://business.sangertexas.com/events/details/sanger-senior-center-ribbon-cutting-4775
END:VEVENT

END:VCALENDAR
