BEGIN:VCALENDAR
VERSION:2.0
PRODID:-//ChamberMaster//Event Calendar 2.0//EN
METHOD:PUBLISH
X-PUBLISHED-TTL:P3D
REFRESH-INTERVAL:P3D
CALSCALE:GREGORIAN
BEGIN:VEVENT
DTSTART:20241031T213000Z
DTEND:20241031T233000Z
X-MICROSOFT-CDO-ALLDAYEVENT:FALSE
SUMMARY:Safe Spook
DESCRIPTION:Halloween is just around the corner\, and what better way to enjoy the spooky season than by trick-or-treating in Sanger downtown? Local businesses are decking out their storefronts\, candy bowls are brimming\, and safety is a top priority for a family-friendly night of fun! We'll have a great costume contest for kids as well as families. Plus we going to have a pet costume as well.
X-ALT-DESC;FMTTYPE=text/html:Halloween is just around the corner\, and what better way to enjoy the spooky season than by trick-or-treating in Sanger downtown? Local businesses are decking out their storefronts\, candy bowls are brimming\, and safety is a top priority for a family-friendly night of fun! We&#39\;ll have a great costume contest for kids as well as families. Plus we going to have a pet costume as well.
LOCATION:Downtown Sanger Park and Downtown Businesses
UID:e.2833.3668
SEQUENCE:3
DTSTAMP:20260425T141909Z
URL:https://business.sangertexas.com/events/details/safe-spook-3668
END:VEVENT

END:VCALENDAR
