BEGIN:VCALENDAR
VERSION:2.0
PRODID:-//ChamberMaster//Event Calendar 2.0//EN
METHOD:PUBLISH
X-PUBLISHED-TTL:P3D
REFRESH-INTERVAL:P3D
CALSCALE:GREGORIAN
BEGIN:VEVENT
DTSTART:20260503T160000Z
DTEND:20260504T043000Z
X-MICROSOFT-CDO-ALLDAYEVENT:FALSE
SUMMARY:Ribbon Cutting - Dorado Nail Bar
DESCRIPTION:Celebrate the grand opening of Dorado Nail Bar with a formal ribbon-cutting ceremony hosted by the Sanger Chamber of Commerce. Local news outlets will be present to cover the event\, giving it added visibility.\n\nEnjoy delicious food options from a local food truck\, perfect for a midday treat.\n\n40% off all services for guests attending the event\, making it a great opportunity to try out their offerings.
X-ALT-DESC;FMTTYPE=text/html:Celebrate the grand opening of Dorado Nail Bar with a formal ribbon-cutting ceremony hosted by the Sanger Chamber of Commerce.&nbsp\;Local news outlets will be present to cover the event\, giving it added visibility.<br />\nEnjoy delicious food options from a local food truck\, perfect for a midday treat.<br />\n<strong>40% off all services</strong> for guests attending the event\, making it a great opportunity to try out their offerings.<br />\n&nbsp\;<br />\n<br />\n&nbsp\;
LOCATION:Dorado Nail Bar 1409 Chapman Dr. Sanger\, TX 76266
UID:e.2833.4776
SEQUENCE:3
DTSTAMP:20260423T172111Z
URL:https://business.sangertexas.com/events/details/ribbon-cutting-dorado-nail-bar-4776
END:VEVENT

END:VCALENDAR
