BEGIN:VCALENDAR
VERSION:2.0
PRODID:-//ChamberMaster//Event Calendar 2.0//EN
METHOD:PUBLISH
X-PUBLISHED-TTL:P3D
REFRESH-INTERVAL:P3D
CALSCALE:GREGORIAN
BEGIN:VEVENT
DTSTART:20240110T143000Z
DTEND:20240110T153000Z
X-MICROSOFT-CDO-ALLDAYEVENT:FALSE
SUMMARY:Business over Breakfast
DESCRIPTION:Welcome to Business over Breakfast!\n\nJoin us on Wednesday\, January 10\, 2024 at 8:30 AM for a morning of networking and collaboration at the Sanger Chamber of Commerce. This event provides a fantastic opportunity for local professionals to connect\, share ideas\, and build meaningful relationships over a delicious breakfast.\n\nWhether you're a seasoned entrepreneur\, a small business owner\, or an aspiring professional\, Business over Breakfast offers a casual and friendly environment to exchange insights\, gain valuable contacts\, and explore potential collaborations.\n\nDuring this engaging event\, you'll have the chance to meet like-minded individuals\, discuss industry trends\, and discover new opportunities for growth. Our aim is to foster a supportive community where you can learn from each other's experiences and find inspiration to drive your business forward.\n\nDon't miss out on this exciting occasion to kickstart your day with a productive networking session. Remember to bring your business cards and a positive attitude. We look forward to seeing you at Business over Breakfast!
X-ALT-DESC;FMTTYPE=text/html:<strong><span style="font-family:times new roman\,serif\;"><span style="font-size:18.0pt\;">Welcome to Business over Breakfast!</span></span></strong><br />\n<span style="font-family:times new roman\,serif\;"><span style="font-size:12.0pt\;">Join us on <strong>Wednesday\, January 10\, 2024</strong> at <strong>8:30 AM</strong> for a morning of networking and collaboration at the <strong>Sanger Chamber of Commerce</strong>. This event provides a fantastic opportunity for local professionals to connect\, share ideas\, and build meaningful relationships over a delicious breakfast.</span></span><br />\n<span style="font-family:times new roman\,serif\;"><span style="font-size:12.0pt\;">Whether you&#39\;re a seasoned entrepreneur\, a small business owner\, or an aspiring professional\, Business over Breakfast offers a casual and friendly environment to exchange insights\, gain valuable contacts\, and explore potential collaborations.</span></span><br />\n<span style="font-family:times new roman\,serif\;"><span style="font-size:12.0pt\;">During this engaging event\, you&#39\;ll have the chance to meet like-minded individuals\, discuss industry trends\, and discover new opportunities for growth. Our aim is to foster a supportive community where you can learn from each other&#39\;s experiences and find inspiration to drive your business forward.</span></span><br />\n<span style="font-family:times new roman\,serif\;"><span style="font-size:12.0pt\;">Don&#39\;t miss out on this exciting occasion to kickstart your day with a productive networking session. Remember to bring your business cards and a positive attitude. We look forward to seeing you at Business over Breakfast!</span></span><br />\n<br />\n&nbsp\;
LOCATION:Locations may vary depending on Sponsor otherwise Sanger Chamber of Commerce 300 Bolivar St Sanger\, TX 76266
UID:e.2833.2881
SEQUENCE:3
DTSTAMP:20260422T095927Z
URL:https://business.sangertexas.com/events/details/business-over-breakfast-2881
END:VEVENT

END:VCALENDAR
